Package: fcScan Version: 1.23.0 Command: F:\biocbuild\bbs-3.22-bioc\R\bin\R.exe CMD check --no-multiarch --install=check:fcScan.install-out.txt --library=F:\biocbuild\bbs-3.22-bioc\R\library --no-vignettes --timings fcScan_1.23.0.tar.gz StartedAt: 2025-07-12 01:53:11 -0400 (Sat, 12 Jul 2025) EndedAt: 2025-07-12 02:09:03 -0400 (Sat, 12 Jul 2025) EllapsedTime: 952.1 seconds RetCode: 0 Status: OK CheckDir: fcScan.Rcheck Warnings: 0