Package: fcScan Version: 1.23.0 Command: rm -rf fcScan.buildbin-libdir && mkdir fcScan.buildbin-libdir && F:\biocbuild\bbs-3.22-bioc\R\bin\R.exe CMD INSTALL --build --library=fcScan.buildbin-libdir fcScan_1.23.0.tar.gz StartedAt: 2025-07-10 09:32:00 -0400 (Thu, 10 Jul 2025) EndedAt: 2025-07-10 09:32:47 -0400 (Thu, 10 Jul 2025) EllapsedTime: 46.9 seconds RetCode: 0 Status: OK PackageFile: fcScan_1.23.0.zip PackageFileSize: 277.7 KiB