Package: fcScan Version: 1.23.0 Command: /home/biocbuild/bbs-3.22-bioc/R/bin/R CMD build --keep-empty-dirs --no-resave-data --md5 fcScan StartedAt: 2025-07-15 17:10:39 -0400 (Tue, 15 Jul 2025) EndedAt: 2025-07-15 17:11:46 -0400 (Tue, 15 Jul 2025) EllapsedTime: 66.1 seconds RetCode: 0 Status: OK PackageFile: fcScan_1.23.0.tar.gz PackageFileSize: 242.2 KiB