Package: fastseg Version: 1.55.0 Command: chmod a+r fastseg -R && F:\biocbuild\bbs-3.22-bioc\R\bin\R.exe CMD build --keep-empty-dirs --no-resave-data fastseg StartedAt: 2025-07-24 19:10:42 -0400 (Thu, 24 Jul 2025) EndedAt: 2025-07-24 19:13:35 -0400 (Thu, 24 Jul 2025) EllapsedTime: 173.4 seconds RetCode: 0 Status: OK PackageFile: fastseg_1.55.0.tar.gz PackageFileSize: 475.7 KiB