Package: fastseg Version: 1.55.0 Command: /Library/Frameworks/R.framework/Resources/bin/R CMD check --install=check:fastseg.install-out.txt --library=/Library/Frameworks/R.framework/Resources/library --no-vignettes --timings fastseg_1.55.0.tar.gz StartedAt: 2025-07-13 20:44:08 -0400 (Sun, 13 Jul 2025) EndedAt: 2025-07-13 20:45:47 -0400 (Sun, 13 Jul 2025) EllapsedTime: 98.5 seconds RetCode: 0 Status: OK CheckDir: fastseg.Rcheck Warnings: 0