Package: fastseg Version: 1.55.0 Command: rm -rf fastseg.buildbin-libdir && mkdir fastseg.buildbin-libdir && /Users/biocbuild/BBS/utils/build-universal.sh fastseg_1.55.0.tar.gz /Library/Frameworks/R.framework/Resources/bin/R fastseg.buildbin-libdir StartedAt: 2025-07-14 00:57:13 -0400 (Mon, 14 Jul 2025) EndedAt: 2025-07-14 00:57:34 -0400 (Mon, 14 Jul 2025) EllapsedTime: 21.0 seconds RetCode: 0 Status: OK PackageFile: fastseg_1.55.0.tgz PackageFileSize: 765.6 KiB