Package: fastLiquidAssociation Version: 1.45.0 Command: /home/biocbuild/R/R/bin/R CMD INSTALL fastLiquidAssociation StartedAt: 2025-06-30 21:12:55 -0000 (Mon, 30 Jun 2025) EndedAt: 2025-06-30 21:13:22 -0000 (Mon, 30 Jun 2025) EllapsedTime: 26.9 seconds RetCode: 0 Status: OK