Package: famat Version: 1.19.0 Command: /home/biocbuild/R/R/bin/R CMD INSTALL famat StartedAt: 2025-10-09 21:57:28 -0000 (Thu, 09 Oct 2025) EndedAt: 2025-10-09 21:58:21 -0000 (Thu, 09 Oct 2025) EllapsedTime: 52.7 seconds RetCode: 0 Status: OK