Package: famat Version: 1.19.0 Command: /home/biocbuild/R/R/bin/R CMD check --install=check:famat.install-out.txt --library=/home/biocbuild/R/R/site-library --no-vignettes --timings famat_1.19.0.tar.gz StartedAt: 2025-10-03 07:05:53 -0000 (Fri, 03 Oct 2025) EndedAt: 2025-10-03 07:10:35 -0000 (Fri, 03 Oct 2025) EllapsedTime: 281.4 seconds RetCode: 1 Status: ERROR CheckDir: famat.Rcheck Warnings: NA