Package: famat Version: 1.19.0 Command: /home/biocbuild/R/R/bin/R CMD build --keep-empty-dirs --no-resave-data famat StartedAt: 2025-10-06 23:41:12 -0000 (Mon, 06 Oct 2025) EndedAt: 2025-10-06 23:42:22 -0000 (Mon, 06 Oct 2025) EllapsedTime: 70.1 seconds RetCode: 1 Status: ERROR PackageFile: None PackageFileSize: NA