Package: famat Version: 1.19.0 Command: F:\biocbuild\bbs-3.22-bioc\R\bin\R.exe CMD check --no-multiarch --install=check:famat.install-out.txt --library=F:\biocbuild\bbs-3.22-bioc\R\library --no-vignettes --timings famat_1.19.0.tar.gz StartedAt: 2025-08-15 03:10:50 -0400 (Fri, 15 Aug 2025) EndedAt: 2025-08-15 03:18:43 -0400 (Fri, 15 Aug 2025) EllapsedTime: 472.9 seconds RetCode: 0 Status: OK CheckDir: famat.Rcheck Warnings: 0