Package: famat Version: 1.19.0 Command: rm -rf famat.buildbin-libdir && mkdir famat.buildbin-libdir && F:\biocbuild\bbs-3.22-bioc\R\bin\R.exe CMD INSTALL --build --library=famat.buildbin-libdir famat_1.19.0.tar.gz StartedAt: 2025-08-15 10:15:46 -0400 (Fri, 15 Aug 2025) EndedAt: 2025-08-15 10:16:48 -0400 (Fri, 15 Aug 2025) EllapsedTime: 61.9 seconds RetCode: 0 Status: OK PackageFile: famat_1.19.0.zip PackageFileSize: 3.645 MiB