Package: famat Version: 1.19.0 Command: /home/biocbuild/bbs-3.22-bioc/R/bin/R CMD INSTALL famat StartedAt: 2025-10-06 15:48:37 -0400 (Mon, 06 Oct 2025) EndedAt: 2025-10-06 15:49:19 -0400 (Mon, 06 Oct 2025) EllapsedTime: 42.8 seconds RetCode: 0 Status: OK