Package: famat Version: 1.19.0 Command: /home/biocbuild/bbs-3.22-bioc/R/bin/R CMD check --install=check:famat.install-out.txt --library=/home/biocbuild/bbs-3.22-bioc/R/site-library --timings famat_1.19.0.tar.gz StartedAt: 2025-10-02 23:45:00 -0400 (Thu, 02 Oct 2025) EndedAt: 2025-10-02 23:48:58 -0400 (Thu, 02 Oct 2025) EllapsedTime: 238.4 seconds RetCode: 1 Status: ERROR CheckDir: famat.Rcheck Warnings: NA