Package: famat Version: 1.19.0 Command: /Library/Frameworks/R.framework/Resources/bin/R CMD INSTALL famat StartedAt: 2025-10-06 15:46:34 -0400 (Mon, 06 Oct 2025) EndedAt: 2025-10-06 15:47:42 -0400 (Mon, 06 Oct 2025) EllapsedTime: 68.0 seconds RetCode: 0 Status: OK