Package: famat Version: 1.19.0 Command: /Library/Frameworks/R.framework/Resources/bin/R CMD INSTALL famat StartedAt: 2025-10-06 15:26:04 -0400 (Mon, 06 Oct 2025) EndedAt: 2025-10-06 15:26:25 -0400 (Mon, 06 Oct 2025) EllapsedTime: 20.5 seconds RetCode: 0 Status: OK