Package: famat Version: 1.19.0 Command: /Library/Frameworks/R.framework/Resources/bin/R CMD check --install=check:famat.install-out.txt --library=/Library/Frameworks/R.framework/Resources/library --no-vignettes --timings famat_1.19.0.tar.gz StartedAt: 2025-10-02 19:52:17 -0400 (Thu, 02 Oct 2025) EndedAt: 2025-10-02 19:55:03 -0400 (Thu, 02 Oct 2025) EllapsedTime: 166.2 seconds RetCode: 0 Status: OK CheckDir: famat.Rcheck Warnings: 0