Package: faers Version: 1.5.0 Command: /Library/Frameworks/R.framework/Resources/bin/R CMD INSTALL faers StartedAt: 2025-07-20 15:05:03 -0400 (Sun, 20 Jul 2025) EndedAt: 2025-07-20 15:05:18 -0400 (Sun, 20 Jul 2025) EllapsedTime: 14.7 seconds RetCode: 0 Status: OK