Package: faers Version: 1.5.0 Command: /Library/Frameworks/R.framework/Resources/bin/R CMD build --keep-empty-dirs --no-resave-data faers StartedAt: 2025-07-20 16:18:19 -0400 (Sun, 20 Jul 2025) EndedAt: 2025-07-20 16:18:35 -0400 (Sun, 20 Jul 2025) EllapsedTime: 16.2 seconds RetCode: 0 Status: OK PackageFile: faers_1.5.0.tar.gz PackageFileSize: 2.889 MiB