Package: factR Version: 1.11.0 Command: F:\biocbuild\bbs-3.22-bioc\R\bin\R.exe CMD check --no-multiarch --install=check:factR.install-out.txt --library=F:\biocbuild\bbs-3.22-bioc\R\library --no-vignettes --timings factR_1.11.0.tar.gz StartedAt: 2025-08-15 03:10:18 -0400 (Fri, 15 Aug 2025) EndedAt: 2025-08-15 03:13:32 -0400 (Fri, 15 Aug 2025) EllapsedTime: 194.5 seconds RetCode: 0 Status: OK CheckDir: factR.Rcheck Warnings: 0