Package: fabia Version: 2.55.0 Command: /home/biocbuild/R/R/bin/R CMD INSTALL fabia StartedAt: 2025-10-02 20:31:58 -0000 (Thu, 02 Oct 2025) EndedAt: 2025-10-02 20:32:14 -0000 (Thu, 02 Oct 2025) EllapsedTime: 15.6 seconds RetCode: 0 Status: OK