Package: fabia Version: 2.55.0 Command: /home/biocbuild/R/R/bin/R CMD check --install=check:fabia.install-out.txt --library=/home/biocbuild/R/R/site-library --no-vignettes --timings fabia_2.55.0.tar.gz StartedAt: 2025-10-03 07:05:36 -0000 (Fri, 03 Oct 2025) EndedAt: 2025-10-03 07:06:23 -0000 (Fri, 03 Oct 2025) EllapsedTime: 47.1 seconds RetCode: 0 Status: WARNINGS CheckDir: fabia.Rcheck Warnings: 2