Package: fabia Version: 2.55.0 Command: /home/biocbuild/R/R/bin/R CMD build --keep-empty-dirs --no-resave-data fabia StartedAt: 2025-10-02 23:56:03 -0000 (Thu, 02 Oct 2025) EndedAt: 2025-10-02 23:56:26 -0000 (Thu, 02 Oct 2025) EllapsedTime: 23.0 seconds RetCode: 0 Status: OK PackageFile: fabia_2.55.0.tar.gz PackageFileSize: 783.8 KiB