Package: fabia Version: 2.55.0 Command: /Library/Frameworks/R.framework/Resources/bin/R CMD INSTALL fabia StartedAt: 2025-10-05 15:06:57 -0400 (Sun, 05 Oct 2025) EndedAt: 2025-10-05 15:07:02 -0400 (Sun, 05 Oct 2025) EllapsedTime: 4.7 seconds RetCode: 0 Status: OK