Package: fabia Version: 2.55.0 Command: rm -rf fabia.buildbin-libdir && mkdir fabia.buildbin-libdir && /Users/biocbuild/BBS/utils/build-universal.sh fabia_2.55.0.tar.gz /Library/Frameworks/R.framework/Resources/bin/R fabia.buildbin-libdir StartedAt: 2025-10-05 22:42:45 -0400 (Sun, 05 Oct 2025) EndedAt: 2025-10-05 22:42:50 -0400 (Sun, 05 Oct 2025) EllapsedTime: 5.1 seconds RetCode: 0 Status: OK PackageFile: fabia_2.55.0.tgz PackageFileSize: 1.143 MiB