Package: fCI Version: 1.39.0 Command: /home/biocbuild/R/R/bin/R CMD INSTALL fCI StartedAt: 2025-07-14 20:17:06 -0000 (Mon, 14 Jul 2025) EndedAt: 2025-07-14 20:18:02 -0000 (Mon, 14 Jul 2025) EllapsedTime: 55.8 seconds RetCode: 0 Status: OK