Package: fCI Version: 1.39.0 Command: /Library/Frameworks/R.framework/Resources/bin/R CMD check --install=check:fCI.install-out.txt --library=/Library/Frameworks/R.framework/Resources/library --no-vignettes --timings fCI_1.39.0.tar.gz StartedAt: 2025-07-14 19:13:45 -0400 (Mon, 14 Jul 2025) EndedAt: 2025-07-14 19:14:05 -0400 (Mon, 14 Jul 2025) EllapsedTime: 20.3 seconds RetCode: 0 Status: OK CheckDir: fCI.Rcheck Warnings: 0