Package: fCCAC Version: 1.35.0 Command: /home/biocbuild/R/R/bin/R CMD INSTALL fCCAC StartedAt: 2025-07-03 20:51:02 -0000 (Thu, 03 Jul 2025) EndedAt: 2025-07-03 20:51:53 -0000 (Thu, 03 Jul 2025) EllapsedTime: 50.9 seconds RetCode: 0 Status: OK