Package: fCCAC Version: 1.35.0 Command: /home/biocbuild/R/R/bin/R CMD check --install=check:fCCAC.install-out.txt --library=/home/biocbuild/R/R/site-library --no-vignettes --timings fCCAC_1.35.0.tar.gz StartedAt: 2025-07-08 06:34:29 -0000 (Tue, 08 Jul 2025) EndedAt: 2025-07-08 06:39:50 -0000 (Tue, 08 Jul 2025) EllapsedTime: 321.2 seconds RetCode: 0 Status: OK CheckDir: fCCAC.Rcheck Warnings: 0