Package: fCCAC Version: 1.35.0 Command: /home/biocbuild/R/R/bin/R CMD build --keep-empty-dirs --no-resave-data fCCAC StartedAt: 2025-07-03 23:54:05 -0000 (Thu, 03 Jul 2025) EndedAt: 2025-07-03 23:55:22 -0000 (Thu, 03 Jul 2025) EllapsedTime: 77.1 seconds RetCode: 0 Status: OK PackageFile: fCCAC_1.35.0.tar.gz PackageFileSize: 3.492 MiB