Package: fCCAC Version: 1.35.0 Command: F:\biocbuild\bbs-3.22-bioc\R\bin\R.exe CMD INSTALL fCCAC StartedAt: 2025-07-24 16:39:21 -0400 (Thu, 24 Jul 2025) EndedAt: 2025-07-24 16:40:10 -0400 (Thu, 24 Jul 2025) EllapsedTime: 49.3 seconds RetCode: 0 Status: OK