Package: fCCAC Version: 1.35.0 Command: rm -rf fCCAC.buildbin-libdir && mkdir fCCAC.buildbin-libdir && F:\biocbuild\bbs-3.22-bioc\R\bin\R.exe CMD INSTALL --build --library=fCCAC.buildbin-libdir fCCAC_1.35.0.tar.gz StartedAt: 2025-07-25 09:14:48 -0400 (Fri, 25 Jul 2025) EndedAt: 2025-07-25 09:15:39 -0400 (Fri, 25 Jul 2025) EllapsedTime: 50.2 seconds RetCode: 0 Status: OK PackageFile: fCCAC_1.35.0.zip PackageFileSize: 3.529 MiB