Package: fCCAC Version: 1.35.0 Command: /Library/Frameworks/R.framework/Resources/bin/R CMD INSTALL fCCAC StartedAt: 2025-07-04 15:17:17 -0400 (Fri, 04 Jul 2025) EndedAt: 2025-07-04 15:17:32 -0400 (Fri, 04 Jul 2025) EllapsedTime: 15.4 seconds RetCode: 0 Status: OK