Package: fCCAC Version: 1.35.0 Command: /Library/Frameworks/R.framework/Resources/bin/R CMD build --keep-empty-dirs --no-resave-data fCCAC StartedAt: 2025-07-04 16:17:51 -0400 (Fri, 04 Jul 2025) EndedAt: 2025-07-04 16:18:15 -0400 (Fri, 04 Jul 2025) EllapsedTime: 24.3 seconds RetCode: 0 Status: OK PackageFile: fCCAC_1.35.0.tar.gz PackageFileSize: 3.498 MiB