Package: extraChIPs Version: 1.13.2 Command: F:\biocbuild\bbs-3.22-bioc\R\bin\R.exe CMD INSTALL extraChIPs StartedAt: 2025-07-24 16:35:22 -0400 (Thu, 24 Jul 2025) EndedAt: 2025-07-24 16:36:50 -0400 (Thu, 24 Jul 2025) EllapsedTime: 87.9 seconds RetCode: 0 Status: OK