Package: extraChIPs Version: 1.13.2 Command: chmod a+r extraChIPs -R && F:\biocbuild\bbs-3.22-bioc\R\bin\R.exe CMD build --keep-empty-dirs --no-resave-data extraChIPs StartedAt: 2025-07-24 19:09:06 -0400 (Thu, 24 Jul 2025) EndedAt: 2025-07-24 19:11:43 -0400 (Thu, 24 Jul 2025) EllapsedTime: 156.7 seconds RetCode: 0 Status: OK PackageFile: extraChIPs_1.13.2.tar.gz PackageFileSize: 3.314 MiB