Package: evaluomeR Version: 1.25.0 Command: F:\biocbuild\bbs-3.22-bioc\R\bin\R.exe CMD INSTALL evaluomeR StartedAt: 2025-07-11 16:20:39 -0400 (Fri, 11 Jul 2025) EndedAt: 2025-07-11 16:21:36 -0400 (Fri, 11 Jul 2025) EllapsedTime: 56.9 seconds RetCode: 0 Status: OK