Package: evaluomeR Version: 1.25.0 Command: F:\biocbuild\bbs-3.22-bioc\R\bin\R.exe CMD check --no-multiarch --install=check:evaluomeR.install-out.txt --library=F:\biocbuild\bbs-3.22-bioc\R\library --no-vignettes --timings evaluomeR_1.25.0.tar.gz StartedAt: 2025-07-12 01:48:15 -0400 (Sat, 12 Jul 2025) EndedAt: 2025-07-12 01:53:38 -0400 (Sat, 12 Jul 2025) EllapsedTime: 323.3 seconds RetCode: 0 Status: WARNINGS CheckDir: evaluomeR.Rcheck Warnings: 3