Package: evaluomeR Version: 1.25.0 Command: chmod a+r evaluomeR -R && F:\biocbuild\bbs-3.22-bioc\R\bin\R.exe CMD build --keep-empty-dirs --no-resave-data evaluomeR StartedAt: 2025-07-11 18:52:59 -0400 (Fri, 11 Jul 2025) EndedAt: 2025-07-11 18:54:37 -0400 (Fri, 11 Jul 2025) EllapsedTime: 97.9 seconds RetCode: 0 Status: OK PackageFile: evaluomeR_1.25.0.tar.gz PackageFileSize: 871.2 KiB