Package: evaluomeR Version: 1.25.0 Command: /Library/Frameworks/R.framework/Resources/bin/R CMD INSTALL evaluomeR StartedAt: 2025-06-29 15:28:31 -0400 (Sun, 29 Jun 2025) EndedAt: 2025-06-29 15:29:23 -0400 (Sun, 29 Jun 2025) EllapsedTime: 51.8 seconds RetCode: 0 Status: OK