Package: evaluomeR Version: 1.25.0 Command: rm -rf evaluomeR.buildbin-libdir && mkdir evaluomeR.buildbin-libdir && /Users/biocbuild/BBS/utils/build-universal.sh evaluomeR_1.25.0.tar.gz /Library/Frameworks/R.framework/Resources/bin/R evaluomeR.buildbin-libdir StartedAt: 2025-06-30 00:38:19 -0400 (Mon, 30 Jun 2025) EndedAt: 2025-06-30 00:39:03 -0400 (Mon, 30 Jun 2025) EllapsedTime: 44.0 seconds RetCode: 0 Status: OK PackageFile: evaluomeR_1.25.0.tgz PackageFileSize: 775.9 KiB