Package: evaluomeR Version: 1.25.0 Command: /Library/Frameworks/R.framework/Resources/bin/R CMD INSTALL evaluomeR StartedAt: 2025-06-29 15:18:58 -0400 (Sun, 29 Jun 2025) EndedAt: 2025-06-29 15:19:13 -0400 (Sun, 29 Jun 2025) EllapsedTime: 15.4 seconds RetCode: 0 Status: OK