Package: evaluomeR Version: 1.25.0 Command: /Library/Frameworks/R.framework/Resources/bin/R CMD build --keep-empty-dirs --no-resave-data evaluomeR StartedAt: 2025-06-29 16:17:30 -0400 (Sun, 29 Jun 2025) EndedAt: 2025-06-29 16:17:55 -0400 (Sun, 29 Jun 2025) EllapsedTime: 25.3 seconds RetCode: 0 Status: OK PackageFile: evaluomeR_1.25.0.tar.gz PackageFileSize: 1.045 MiB