Package: eudysbiome Version: 1.39.0 Command: /home/biocbuild/R/R/bin/R CMD INSTALL eudysbiome StartedAt: 2025-07-21 20:39:15 -0000 (Mon, 21 Jul 2025) EndedAt: 2025-07-21 20:39:30 -0000 (Mon, 21 Jul 2025) EllapsedTime: 15.2 seconds RetCode: 0 Status: OK