Package: eudysbiome Version: 1.39.0 Command: /home/biocbuild/R/R/bin/R CMD build --keep-empty-dirs --no-resave-data eudysbiome StartedAt: 2025-07-21 23:40:50 -0000 (Mon, 21 Jul 2025) EndedAt: 2025-07-21 23:41:12 -0000 (Mon, 21 Jul 2025) EllapsedTime: 22.0 seconds RetCode: 0 Status: OK PackageFile: eudysbiome_1.39.0.tar.gz PackageFileSize: 4.369 MiB