Package: eudysbiome Version: 1.39.0 Command: /home/biocbuild/bbs-3.22-bioc/R/bin/R CMD check --install=check:eudysbiome.install-out.txt --library=/home/biocbuild/bbs-3.22-bioc/R/site-library --timings eudysbiome_1.39.0.tar.gz StartedAt: 2025-07-17 22:12:22 -0400 (Thu, 17 Jul 2025) EndedAt: 2025-07-17 22:13:46 -0400 (Thu, 17 Jul 2025) EllapsedTime: 84.0 seconds RetCode: 0 Status: OK CheckDir: eudysbiome.Rcheck Warnings: 0