Package: eudysbiome Version: 1.39.0 Command: /Library/Frameworks/R.framework/Resources/bin/R CMD INSTALL eudysbiome StartedAt: 2025-07-21 15:17:48 -0400 (Mon, 21 Jul 2025) EndedAt: 2025-07-21 15:18:05 -0400 (Mon, 21 Jul 2025) EllapsedTime: 16.9 seconds RetCode: 0 Status: OK