Package: eudysbiome Version: 1.39.0 Command: /Library/Frameworks/R.framework/Resources/bin/R CMD check --install=check:eudysbiome.install-out.txt --library=/Library/Frameworks/R.framework/Resources/library --no-vignettes --timings eudysbiome_1.39.0.tar.gz StartedAt: 2025-07-21 20:37:07 -0400 (Mon, 21 Jul 2025) EndedAt: 2025-07-21 20:39:05 -0400 (Mon, 21 Jul 2025) EllapsedTime: 118.3 seconds RetCode: 0 Status: OK CheckDir: eudysbiome.Rcheck Warnings: 0