Package: eudysbiome Version: 1.39.0 Command: /Library/Frameworks/R.framework/Resources/bin/R CMD build --keep-empty-dirs --no-resave-data eudysbiome StartedAt: 2025-07-21 16:45:10 -0400 (Mon, 21 Jul 2025) EndedAt: 2025-07-21 16:45:33 -0400 (Mon, 21 Jul 2025) EllapsedTime: 22.9 seconds RetCode: 0 Status: OK PackageFile: eudysbiome_1.39.0.tar.gz PackageFileSize: 4.376 MiB