Package: eudysbiome Version: 1.39.0 Command: /Library/Frameworks/R.framework/Resources/bin/R CMD build --keep-empty-dirs --no-resave-data eudysbiome StartedAt: 2025-07-22 16:17:03 -0400 (Tue, 22 Jul 2025) EndedAt: 2025-07-22 16:17:11 -0400 (Tue, 22 Jul 2025) EllapsedTime: 8.1 seconds RetCode: 0 Status: OK PackageFile: eudysbiome_1.39.0.tar.gz PackageFileSize: 4.377 MiB